BEGIN:VCALENDAR
VERSION:2.0
PRODID:-//Kräuter und Wurzelwerk - ECPv6.5.1.6//NONSGML v1.0//EN
CALSCALE:GREGORIAN
METHOD:PUBLISH
X-WR-CALNAME:Kräuter und Wurzelwerk
X-ORIGINAL-URL:https://back.co.at/kuw
X-WR-CALDESC:Veranstaltungen für Kräuter und Wurzelwerk
REFRESH-INTERVAL;VALUE=DURATION:PT1H
X-Robots-Tag:noindex
X-PUBLISHED-TTL:PT1H
BEGIN:VTIMEZONE
TZID:Europe/Berlin
BEGIN:DAYLIGHT
TZOFFSETFROM:+0100
TZOFFSETTO:+0200
TZNAME:CEST
DTSTART:20230326T010000
END:DAYLIGHT
BEGIN:STANDARD
TZOFFSETFROM:+0200
TZOFFSETTO:+0100
TZNAME:CET
DTSTART:20231029T010000
END:STANDARD
END:VTIMEZONE
BEGIN:VEVENT
DTSTART;TZID=Europe/Berlin:20230823T150000
DTEND;TZID=Europe/Berlin:20230823T173000
DTSTAMP:20260421T143711
CREATED:20230816T130836Z
LAST-MODIFIED:20230816T130836Z
UID:249-1692802800-1692811800@back.co.at
SUMMARY:Kräuterhexenküche für Kinder
DESCRIPTION:Link zum Flyer: \nKräuterhexenküche
URL:https://back.co.at/kuw/event/kraeuterhexenkueche-fuer-kinder/
LOCATION:Wirt Stern\, Stern 1\, Altheim\, 4950\, Österreich
END:VEVENT
BEGIN:VEVENT
DTSTART;TZID=Europe/Berlin:20230825T170000
DTEND;TZID=Europe/Berlin:20230825T193000
DTSTAMP:20260421T143711
CREATED:20230816T130405Z
LAST-MODIFIED:20230816T131359Z
UID:236-1692982800-1692991800@back.co.at
SUMMARY:Heilsalben selber rühren
DESCRIPTION:Link zum Flyer: \nhttps://back.co.at/kuw/2023/08/16/heilsalben-selber-ruehren/ \n  \n 
URL:https://back.co.at/kuw/event/heilsalben-selber-ruehren/
LOCATION:Wirt Stern\, Stern 1\, Altheim\, 4950\, Österreich
END:VEVENT
END:VCALENDAR