BEGIN:VCALENDAR
VERSION:2.0
PRODID:-//Kräuter und Wurzelwerk - ECPv6.5.1.6//NONSGML v1.0//EN
CALSCALE:GREGORIAN
METHOD:PUBLISH
X-ORIGINAL-URL:https://back.co.at/kuw
X-WR-CALDESC:Veranstaltungen für Kräuter und Wurzelwerk
REFRESH-INTERVAL;VALUE=DURATION:PT1H
X-Robots-Tag:noindex
X-PUBLISHED-TTL:PT1H
BEGIN:VTIMEZONE
TZID:Europe/Berlin
BEGIN:DAYLIGHT
TZOFFSETFROM:+0100
TZOFFSETTO:+0200
TZNAME:CEST
DTSTART:20240331T010000
END:DAYLIGHT
BEGIN:STANDARD
TZOFFSETFROM:+0200
TZOFFSETTO:+0100
TZNAME:CET
DTSTART:20241027T010000
END:STANDARD
END:VTIMEZONE
BEGIN:VEVENT
DTSTART;TZID=Europe/Berlin:20240922T140000
DTEND;TZID=Europe/Berlin:20240922T170000
DTSTAMP:20260420T202915
CREATED:20240122T172007Z
LAST-MODIFIED:20240122T172022Z
UID:283-1727013600-1727024400@back.co.at
SUMMARY:Kräuterworkshop für Erwachsene
DESCRIPTION:
URL:https://back.co.at/kuw/event/kraeuterworkshop-fuer-erwachsene-6/
LOCATION:Altheim\, Oberach 64\, Altheim\, 4950\, Österreich
END:VEVENT
END:VCALENDAR