BEGIN:VCALENDAR
VERSION:2.0
PRODID:-//Kräuter und Wurzelwerk - ECPv6.5.1.6//NONSGML v1.0//EN
CALSCALE:GREGORIAN
METHOD:PUBLISH
X-WR-CALNAME:Kräuter und Wurzelwerk
X-ORIGINAL-URL:https://back.co.at/kuw
X-WR-CALDESC:Veranstaltungen für Kräuter und Wurzelwerk
REFRESH-INTERVAL;VALUE=DURATION:PT1H
X-Robots-Tag:noindex
X-PUBLISHED-TTL:PT1H
BEGIN:VTIMEZONE
TZID:Europe/Berlin
BEGIN:DAYLIGHT
TZOFFSETFROM:+0100
TZOFFSETTO:+0200
TZNAME:CEST
DTSTART:20240331T010000
END:DAYLIGHT
BEGIN:STANDARD
TZOFFSETFROM:+0200
TZOFFSETTO:+0100
TZNAME:CET
DTSTART:20241027T010000
END:STANDARD
END:VTIMEZONE
BEGIN:VEVENT
DTSTART;TZID=Europe/Berlin:20240717T090000
DTEND;TZID=Europe/Berlin:20240717T160000
DTSTAMP:20260420T232033
CREATED:20240524T094504Z
LAST-MODIFIED:20240524T094504Z
UID:326-1721206800-1721232000@back.co.at
SUMMARY:EIN WILDES ABENTEUER IN DER NATUR
DESCRIPTION:
URL:https://back.co.at/kuw/event/ein-wildes-abenteuer-in-der-natur-2/
LOCATION:Schmitzberg 16\, Schmitzberg 16\, Schmitzberg\, 4843\, Österreich
END:VEVENT
END:VCALENDAR