BEGIN:VCALENDAR
VERSION:2.0
PRODID:-//Kräuter und Wurzelwerk - ECPv6.5.1.6//NONSGML v1.0//EN
CALSCALE:GREGORIAN
METHOD:PUBLISH
X-ORIGINAL-URL:https://back.co.at/kuw
X-WR-CALDESC:Veranstaltungen für Kräuter und Wurzelwerk
REFRESH-INTERVAL;VALUE=DURATION:PT1H
X-Robots-Tag:noindex
X-PUBLISHED-TTL:PT1H
BEGIN:VTIMEZONE
TZID:Europe/Berlin
BEGIN:DAYLIGHT
TZOFFSETFROM:+0100
TZOFFSETTO:+0200
TZNAME:CEST
DTSTART:20240331T010000
END:DAYLIGHT
BEGIN:STANDARD
TZOFFSETFROM:+0200
TZOFFSETTO:+0100
TZNAME:CET
DTSTART:20241027T010000
END:STANDARD
END:VTIMEZONE
BEGIN:VEVENT
DTSTART;TZID=Europe/Berlin:20240703T163000
DTEND;TZID=Europe/Berlin:20240703T193000
DTSTAMP:20260420T232242
CREATED:20240524T093929Z
LAST-MODIFIED:20240524T093929Z
UID:316-1720024200-1720035000@back.co.at
SUMMARY:Wasserdampf-Destillation
DESCRIPTION:
URL:https://back.co.at/kuw/event/wasserdampf-destillation-2/
LOCATION:Auffang 139\, Schalchen\, Auffang 139\, Schalchen\, Österreich
END:VEVENT
END:VCALENDAR